BEGIN:VCALENDAR
VERSION:2.0
PRODID:-//CMA Education Foundation - ECPv6.15.20//NONSGML v1.0//EN
CALSCALE:GREGORIAN
METHOD:PUBLISH
X-WR-CALNAME:CMA Education Foundation
X-ORIGINAL-URL:https://cma-edu.org
X-WR-CALDESC:Events for CMA Education Foundation
REFRESH-INTERVAL;VALUE=DURATION:PT1H
X-Robots-Tag:noindex
X-PUBLISHED-TTL:PT1H
BEGIN:VTIMEZONE
TZID:UTC
BEGIN:STANDARD
TZOFFSETFROM:+0000
TZOFFSETTO:+0000
TZNAME:UTC
DTSTART:20220101T000000
END:STANDARD
END:VTIMEZONE
BEGIN:VEVENT
DTSTART;TZID=UTC:20230221T183000
DTEND;TZID=UTC:20230221T193000
DTSTAMP:20260421T163119
CREATED:20230119T184553Z
LAST-MODIFIED:20230119T184553Z
UID:7291-1677004200-1677007800@cma-edu.org
SUMMARY:CMA EF Board Meeting
DESCRIPTION:
URL:https://cma-edu.org/calendar/cma-ef-board-meeting-3/
LOCATION:Zoom
ATTACH;FMTTYPE=image/png:https://cma-edu.org/wp-content/uploads/id_CMA_rev01_transparent.png
END:VEVENT
BEGIN:VEVENT
DTSTART;VALUE=DATE:20230223
DTEND;VALUE=DATE:20230224
DTSTAMP:20260421T163119
CREATED:20230104T173740Z
LAST-MODIFIED:20230104T173740Z
UID:7274-1677110400-1677196799@cma-edu.org
SUMMARY:Fairfield County Giving Day
DESCRIPTION:
URL:https://cma-edu.org/calendar/fairfield-county-giving-day/
END:VEVENT
BEGIN:VEVENT
DTSTART;VALUE=DATE:20230321
DTEND;VALUE=DATE:20230324
DTSTAMP:20260421T163119
CREATED:20230119T184929Z
LAST-MODIFIED:20230119T184929Z
UID:7293-1679356800-1679615999@cma-edu.org
SUMMARY:CMA Shipping Conference with Student Research Paper Presentations
DESCRIPTION:
URL:https://cma-edu.org/calendar/cma-shipping-conference-with-student-research-paper-presentations/
LOCATION:Hilton Hotel\, Stamford\, CT
ATTACH;FMTTYPE=image/png:https://cma-edu.org/wp-content/uploads/2gold-and-blue-CMALogos-Converted-1-copy-1-1800x536-1.png
END:VEVENT
BEGIN:VEVENT
DTSTART;TZID=UTC:20230323T080000
DTEND;TZID=UTC:20230323T190000
DTSTAMP:20260421T163119
CREATED:20230319T151503Z
LAST-MODIFIED:20230319T151627Z
UID:7335-1679558400-1679598000@cma-edu.org
SUMMARY:Corporate Headshot Photo Opportunity and Fundraiser
DESCRIPTION:
URL:https://cma-edu.org/calendar/corporate-headshot-photo-opportunity-and-fundraiser/
LOCATION:Hilton Hotel\, Stamford\, CT
ATTACH;FMTTYPE=image/png:https://cma-edu.org/wp-content/uploads/photoevent.png
END:VEVENT
BEGIN:VEVENT
DTSTART;TZID=UTC:20230524T180000
DTEND;TZID=UTC:20230524T200000
DTSTAMP:20260421T163119
CREATED:20230318T131522Z
LAST-MODIFIED:20230319T151655Z
UID:7311-1684951200-1684958400@cma-edu.org
SUMMARY:Spring Splash Fundraiser in May
DESCRIPTION:
URL:https://cma-edu.org/calendar/spring-splash-fundraiser-in-may/
LOCATION:Greenwich Water Club
ATTACH;FMTTYPE=image/png:https://cma-edu.org/wp-content/uploads/splashevent.png
END:VEVENT
BEGIN:VEVENT
DTSTART;TZID=UTC:20240208T080000
DTEND;TZID=UTC:20240208T170000
DTSTAMP:20260421T163119
CREATED:20240126T181103Z
LAST-MODIFIED:20240126T181103Z
UID:7548-1707379200-1707411600@cma-edu.org
SUMMARY:Maritime Career Day
DESCRIPTION:
URL:https://cma-edu.org/calendar/maritime-career-day/
LOCATION:Brien McMahon High School\, CT\, United States
ATTACH;FMTTYPE=image/png:https://cma-edu.org/wp-content/uploads/Career-Day.png
END:VEVENT
BEGIN:VEVENT
DTSTART;TZID=UTC:20240312T080000
DTEND;TZID=UTC:20240314T170000
DTSTAMP:20260421T163119
CREATED:20240126T181333Z
LAST-MODIFIED:20240126T181333Z
UID:7554-1710230400-1710435600@cma-edu.org
SUMMARY:CMA Shipping 2024 Business of Shipping Student Research Winning Presentations and Student Task Force
DESCRIPTION:Voice of the Industry
URL:https://cma-edu.org/calendar/cma-shipping-2024-business-of-shipping-student-research-winning-presentations-and-student-task-force/
ATTACH;FMTTYPE=image/jpeg:https://cma-edu.org/wp-content/uploads/businessofshippingwinners2023.jpg
END:VEVENT
BEGIN:VEVENT
DTSTART;TZID=UTC:20240324T080000
DTEND;TZID=UTC:20240324T170000
DTSTAMP:20260421T163119
CREATED:20240126T181501Z
LAST-MODIFIED:20240126T181501Z
UID:7559-1711267200-1711299600@cma-edu.org
SUMMARY:2024 Scholarship Applications Close
DESCRIPTION:
URL:https://cma-edu.org/calendar/2024-scholarship-applications-close/
ATTACH;FMTTYPE=image/png:https://cma-edu.org/wp-content/uploads/Picture2.png
END:VEVENT
BEGIN:VEVENT
DTSTART;TZID=UTC:20240522T080000
DTEND;TZID=UTC:20240522T170000
DTSTAMP:20260421T163119
CREATED:20240126T181944Z
LAST-MODIFIED:20240126T182059Z
UID:7563-1716364800-1716397200@cma-edu.org
SUMMARY:Spring Splash 2024
DESCRIPTION:more information to follow
URL:https://cma-edu.org/calendar/spring-splash-2024/
LOCATION:Greenwich Water Club
ATTACH;FMTTYPE=image/png:https://cma-edu.org/wp-content/uploads/cropped-id_CMA_rev01_transparent.png
END:VEVENT
BEGIN:VEVENT
DTSTART;TZID=UTC:20250116T080000
DTEND;TZID=UTC:20250120T170000
DTSTAMP:20260421T163119
CREATED:20250116T203404Z
LAST-MODIFIED:20250116T203404Z
UID:7692-1737014400-1737392400@cma-edu.org
SUMMARY:Business of Shipping Call for Papers
DESCRIPTION:
URL:https://cma-edu.org/calendar/business-of-shipping-call-for-papers/
ATTACH;FMTTYPE=image/png:https://cma-edu.org/wp-content/uploads/scholarshipwinner.png
END:VEVENT
BEGIN:VEVENT
DTSTART;VALUE=DATE:20250213
DTEND;VALUE=DATE:20250214
DTSTAMP:20260421T163119
CREATED:20250116T203608Z
LAST-MODIFIED:20250116T203608Z
UID:7694-1739404800-1739491199@cma-edu.org
SUMMARY:Maritime Career Day
DESCRIPTION:
URL:https://cma-edu.org/calendar/maritime-career-day-2/
LOCATION:Brien McMahon High School\, CT\, United States
ATTACH;FMTTYPE=image/webp:https://cma-edu.org/wp-content/uploads/BrienMcMahonHighSchool.webp
ORGANIZER;CN="CMA Education Foundation":MAILTO:info@cma-edu.org
END:VEVENT
BEGIN:VEVENT
DTSTART;VALUE=DATE:20250401
DTEND;VALUE=DATE:20250404
DTSTAMP:20260421T163119
CREATED:20250116T203731Z
LAST-MODIFIED:20250116T203731Z
UID:7697-1743465600-1743724799@cma-edu.org
SUMMARY:CMA Shipping Conference
DESCRIPTION:
URL:https://cma-edu.org/calendar/cma-shipping-conference/
LOCATION:Hilton Hotel\, Stamford\, CT
ATTACH;FMTTYPE=image/png:https://cma-edu.org/wp-content/uploads/2gold-and-blue-CMALogos-Converted-1-copy-1-1800x536-1.png
ORGANIZER;CN="CMA":MAILTO:lparsons@marimemoney.com
END:VEVENT
BEGIN:VEVENT
DTSTART;TZID=UTC:20250514T180000
DTEND;TZID=UTC:20250514T200000
DTSTAMP:20260421T163119
CREATED:20250116T203243Z
LAST-MODIFIED:20250127T185848Z
UID:7690-1747245600-1747252800@cma-edu.org
SUMMARY:Spring Splash 2025
DESCRIPTION:
URL:https://cma-edu.org/calendar/spring-splash-2025/
LOCATION:Greenwich Water Club
ATTACH;FMTTYPE=image/png:https://cma-edu.org/wp-content/uploads/cropped-id_CMA_rev01_transparent.png
ORGANIZER;CN="CMA Education Foundation":MAILTO:info@cma-edu.org
END:VEVENT
END:VCALENDAR