BEGIN:VCALENDAR
VERSION:2.0
PRODID:-//CMA Education Foundation - ECPv6.15.20//NONSGML v1.0//EN
CALSCALE:GREGORIAN
METHOD:PUBLISH
X-WR-CALNAME:CMA Education Foundation
X-ORIGINAL-URL:https://cma-edu.org
X-WR-CALDESC:Events for CMA Education Foundation
REFRESH-INTERVAL;VALUE=DURATION:PT1H
X-Robots-Tag:noindex
X-PUBLISHED-TTL:PT1H
BEGIN:VTIMEZONE
TZID:UTC
BEGIN:STANDARD
TZOFFSETFROM:+0000
TZOFFSETTO:+0000
TZNAME:UTC
DTSTART:20210101T000000
END:STANDARD
END:VTIMEZONE
BEGIN:VEVENT
DTSTART;TZID=UTC:20220628T183000
DTEND;TZID=UTC:20220628T193000
DTSTAMP:20260421T201414
CREATED:20220622T201032Z
LAST-MODIFIED:20220622T201032Z
UID:6971-1656441000-1656444600@cma-edu.org
SUMMARY:CMA EF Board Meeting
DESCRIPTION:
URL:https://cma-edu.org/calendar/cma-ef-board-meeting/
LOCATION:Zoom
ATTACH;FMTTYPE=image/jpeg:https://cma-edu.org/wp-content/uploads/2022/06/id_cma_traced.jpg
ORGANIZER;CN="CMA Education Foundation":MAILTO:info@cma-edu.org
END:VEVENT
END:VCALENDAR